BEGIN:VCALENDAR
VERSION:2.0
PRODID:-//eventon.com NONSGML v1.0//EN
CALSCALE:GREGORIAN
METHOD:PUBLISH
BEGIN:VEVENT
UID:69e4e9c9c5c52
DTSTAMP:20260419T144217Z
DTSTART:20230716
DTEND:20230717
LOCATION:Food Jams Unit B10\,  1st Floor Salt Orchard Precinct\,  45 Yew St\,  Salt River\,  Cape Town\,  7925
SUMMARY:Kids and Parents guided food adventure (FOOD JAMS Edition)
DESCRIPTION:Be part of this chef-led culinary adventure\,  where the focus 
 is on food stories and the why and the where of our food choices\,  as oppo
 sed to the how. Join this unique cooking programme for kids aged five to 10
  years-old\,  along with their parents. The session introduces children to[
 ..]\nhttps://foodindaba.org/events-overview/kids-and-parents-guided-food-ad
 venture-food-jams/
URL:https://foodindaba.org/events-overview/kids-and-parents-guided-food-adventure-food-jams/
END:VEVENT
END:VCALENDAR