BEGIN:VCALENDAR
VERSION:2.0
PRODID:-//eventon.com NONSGML v1.0//EN
CALSCALE:GREGORIAN
METHOD:PUBLISH
BEGIN:VEVENT
UID:69e4c69577199
DTSTAMP:20260419T121205Z
DTSTART:20230706
DTEND:20230707
LOCATION:Bertha House\,  Mowbray 67 Main Rd\,  Mowbray\,  Cape Town\,  7700
SUMMARY:Black Girls Rising Teens and Nutrition Workshop (Bertha House)
DESCRIPTION:This workshop\,  hosted by teen girls from the Black Girls Risi
 ng initiative\,  explores the nexus of teen agency\,  access to healthy foo
 d\,  and academic research into teenagers and food. The event showcases tee
 n agency\,  while presenting new key insights coming out of research into t
 eens and food\,  as well as[..]\nhttps://foodindaba.org/events-overview/bla
 ck-girls-rising-teens-and-nutrition-workshop/
URL:https://foodindaba.org/events-overview/black-girls-rising-teens-and-nutrition-workshop/
END:VEVENT
END:VCALENDAR